BEGIN:VCALENDAR
VERSION:2.0
PRODID:-//DJ Jeroen Gras - ECPv4.6.12//NONSGML v1.0//EN
CALSCALE:GREGORIAN
METHOD:PUBLISH
X-WR-CALNAME:DJ Jeroen Gras
X-ORIGINAL-URL:http://www.jeroengras.nl
X-WR-CALDESC:Events for DJ Jeroen Gras
BEGIN:VEVENT
DTSTART;VALUE=DATE:20240628
DTEND;VALUE=DATE:20240629
DTSTAMP:20260421T120914
CREATED:20240607T075730Z
LAST-MODIFIED:20240607T075730Z
UID:2387-1719532800-1719619199@www.jeroengras.nl
SUMMARY:TT Festival Hotel de Jonge Stage
DESCRIPTION:
URL:http://www.jeroengras.nl/event/tt-festival-hotel-de-jonge-stage-2/
END:VEVENT
END:VCALENDAR