BEGIN:VCALENDAR
VERSION:2.0
PRODID:-//DJ Jeroen Gras - ECPv4.6.12//NONSGML v1.0//EN
CALSCALE:GREGORIAN
METHOD:PUBLISH
X-WR-CALNAME:DJ Jeroen Gras
X-ORIGINAL-URL:http://www.jeroengras.nl
X-WR-CALDESC:Events for DJ Jeroen Gras
BEGIN:VEVENT
DTSTART;VALUE=DATE:20240626
DTEND;VALUE=DATE:20240627
DTSTAMP:20260421T171224
CREATED:20240607T075641Z
LAST-MODIFIED:20240607T075641Z
UID:2383-1719360000-1719446399@www.jeroengras.nl
SUMMARY:TT Festival 2024 Hotel de Jonge Stage
DESCRIPTION:
URL:http://www.jeroengras.nl/event/tt-festival-2024-hotel-de-jonge-stage/
END:VEVENT
END:VCALENDAR