BEGIN:VCALENDAR
VERSION:2.0
PRODID:-//DJ Jeroen Gras - ECPv4.6.12//NONSGML v1.0//EN
CALSCALE:GREGORIAN
METHOD:PUBLISH
X-WR-CALNAME:DJ Jeroen Gras
X-ORIGINAL-URL:http://www.jeroengras.nl
X-WR-CALDESC:Events for DJ Jeroen Gras
BEGIN:VEVENT
DTSTART;TZID=UTC+0:20190525T200000
DTEND;TZID=UTC+0:20190526T010000
DTSTAMP:20260425T115735
CREATED:20190218T162750Z
LAST-MODIFIED:20190218T162750Z
UID:2309-1558814400-1558832400@www.jeroengras.nl
SUMMARY:Paviljoen de Bloemert - Swing in Zuidlaardermeer
DESCRIPTION:Samen met Papa di Grazzi & Ronnie Ruysdael \n  \n
URL:http://www.jeroengras.nl/event/paviljoen-de-bloemert-swing-in-zuidlaardermeer/
LOCATION:Bloemert 5\, Midlaren\, Drenthe\, Nederland
END:VEVENT
END:VCALENDAR