BEGIN:VCALENDAR
VERSION:2.0
PRODID:-//DJ Jeroen Gras - ECPv4.6.12//NONSGML v1.0//EN
CALSCALE:GREGORIAN
METHOD:PUBLISH
X-WR-CALNAME:DJ Jeroen Gras
X-ORIGINAL-URL:http://www.jeroengras.nl
X-WR-CALDESC:Events for DJ Jeroen Gras
BEGIN:VEVENT
DTSTART;TZID=UTC+0:20190420T220000
DTEND;TZID=UTC+0:20190421T050000
DTSTAMP:20260425T115903
CREATED:20190424T135744Z
LAST-MODIFIED:20190424T135744Z
UID:2330-1555797600-1555822800@www.jeroengras.nl
SUMMARY:Like the 90s
DESCRIPTION:Heerlijk 90’s feestje in de Graanfabriek! \n
URL:http://www.jeroengras.nl/event/like-the-90s/
LOCATION:Groningen\, Groningen
END:VEVENT
END:VCALENDAR