BEGIN:VCALENDAR
VERSION:2.0
PRODID:-//DJ Jeroen Gras - ECPv4.6.12//NONSGML v1.0//EN
CALSCALE:GREGORIAN
METHOD:PUBLISH
X-WR-CALNAME:DJ Jeroen Gras
X-ORIGINAL-URL:http://www.jeroengras.nl
X-WR-CALDESC:Events for DJ Jeroen Gras
BEGIN:VEVENT
DTSTART;TZID=UTC+0:20191116T210000
DTEND;TZID=UTC+0:20191117T210000
DTSTAMP:20260421T153505
CREATED:20190802T004518Z
LAST-MODIFIED:20190802T004518Z
UID:2367-1573938000-1574024400@www.jeroengras.nl
SUMMARY:Gigantisch Gieterveen
DESCRIPTION:Samen met de band Lead\, 2 brothers on the 4th floor. \n
URL:http://www.jeroengras.nl/event/gigantisch-gieterveen-2/
LOCATION:Achter Vonderpad 32\, Gieterveen\, Groningen\, Nederland
END:VEVENT
END:VCALENDAR