BEGIN:VCALENDAR
VERSION:2.0
PRODID:-//DJ Jeroen Gras - ECPv4.6.12//NONSGML v1.0//EN
CALSCALE:GREGORIAN
METHOD:PUBLISH
X-WR-CALNAME:DJ Jeroen Gras
X-ORIGINAL-URL:http://www.jeroengras.nl
X-WR-CALDESC:Events for DJ Jeroen Gras
BEGIN:VEVENT
DTSTART;VALUE=DATE:20240831
DTEND;VALUE=DATE:20240901
DTSTAMP:20260421T120756
CREATED:20240607T080858Z
LAST-MODIFIED:20240607T080858Z
UID:2392-1725062400-1725148799@www.jeroengras.nl
SUMMARY:Feesttent Lochem
DESCRIPTION:
URL:http://www.jeroengras.nl/event/feesttent-lochem/
END:VEVENT
END:VCALENDAR